BEGIN:VCALENDAR
VERSION:2.0
PRODID:-//eventon.com NONSGML v1.0//EN
CALSCALE:GREGORIAN
METHOD:PUBLISH
BEGIN:VEVENT
UID:69e5ffac2583e
DTSTAMP:20260420T102756Z
DTSTART:20260521T230000Z
DTEND:20260521T230000Z
LOCATION:- Georgia United States
SUMMARY:Cinch Energy #2
DESCRIPTION:Lots 1-46 * 6201 Elkins Rd\,  Midland TX 79705 Lots 62-88 * 342
 0 Agnes St\,  Corpus Christi TX 78405 (8) Wireline Trucks by Kenworth\,  Na
 vistar\,  Peterbilt &#038; International 2018 Peterbilt Day Cab Tractor (2)
  Chevrolet Flatbed Trucks (4) GMC &#038; Chevrolet Pickups &#038; Service T
 rucks (8) Lowboy\,  Flatbed &#038; Enclosed[..]\nhttps://www.industrialbid.
 com/Auctions/cinch-energy-2/
URL:https://www.industrialbid.com/Auctions/cinch-energy-2/
END:VEVENT
END:VCALENDAR